BEGIN:VCALENDAR
VERSION:2.0
PRODID:-//CHAMBER DASHBOARD//EVENTS CALENDAR2.0//EN
CALSCALE:GREGORIAN
BEGIN:VEVENT
DTEND:20260508T003000Z
UID:69ea1b85d51f4
DTSTAMP:20260423T131549Z
DESCRIPTION:Raton MainStreet is excited to offer a series of FREE online entrepreneur classes designed to help local business owners and aspiring entrepreneurs start\, grow\, and strengthen their businesses.    Whether you're launching a brick-and-mortar downtown or building your business elsewhere in the community\, these one-hour virtual sessions provide practical tools and real-world strategies you can apply right away. This four-part series is presented in partnership with Outgrow Your Garage\, making high-quality business education accessible to everyone.    Class Schedule (5:30–6:30 PM via Zoom) - Click links below to Register:     Tuesday\, April 28 – Managing Seasonal Cashflow    Thursday\, April 30 – Planning Your Business’s Financial Future    Tuesday\, May 5 – Get Online: Business Operations in a Digital World    Thursday\, May 7 – Digital Marketing and Sales     Participants can attend one or all sessions. Each class is interactive\, informative\, and tailored to address common challenges faced by entrepreneurs in our community.    Cost: FreeLocation: Online (Zoom)    Register by clicking the class links\, scanning the QR code on the flyer\, or contacting Patricia Duran at (575) 445-2052 or pduran@ratonmainstreet.org.    Take advantage of this opportunity to gain valuable skills\, connect with other entrepreneurs\, and move your business forward.    RMS Online Entrepreneur ClassesDownload
URL;VALUE=URI:https://ratonmainstreet.org/event/free-entrepreneur-classes/
SUMMARY:FREE Entrepreneur Classes - Spring 2026
DTSTART:20260428T233000Z
END:VEVENT
BEGIN:VEVENT
DTEND:20260615T030000Z
UID:69ea1b85d548c
DTSTAMP:20260423T131549Z
CATEGORIES:Community/Social\,Kids Activities
LOCATION:Raton High School 
DESCRIPTION:Raton High School Parking LotJune 11-14\, 2026&nbsp\;    Get ready for summer fun at the Sun Valley Raton Summer Carnival in Raton! Enjoy thrilling rides\, classic carnival games\, and all your favorite fair treats—fun for the whole family under the bright summer skies.    Schedule &amp\; Hours:     Thursday\, June 11: 5–10 p.m.    Friday\, June 12: 5–11 p.m.    Saturday\, June 13: 3–11 p.m.    Sunday\, June 14: 3–9 p.m.     Bring your family\, invite your friends\, and make unforgettable memories at one of Raton’s most anticipated summer events!    Pre-Sale Tickets available at all InBank locations in Raton and Trinidad.&nbsp\; Pre-Sale Tickets will go on sale early in June 2026 and will be sold until June 11\, 2026 at 4:00 p.m. Get your pre-sale tickets and save $10 on each pass.    COSTPre-sale tickets are $25Tickets at the event are $35&nbsp\;    More info at sunvalleyrides.com
URL;VALUE=URI:https://ratonmainstreet.org/event/2026-annual-sun-valley-rides-summer-carnival-%f0%9f%8e%a1%f0%9f%8e%aa%f0%9f%8e%a0/
SUMMARY:2026 Annual Sun Valley Rides Summer Carnival 🎡🎪🎠
DTSTART:20260611T230000Z
END:VEVENT
BEGIN:VEVENT
DTEND:20260705T150000Z
UID:69ea1b85d5666
DTSTAMP:20260423T131549Z
CATEGORIES:Community/Social
LOCATION:La Mesa Airfield Hwy 555, Raton, NM, 87740, USA
DESCRIPTION:Experience the wonder! The 2026 International Santa Fe Trail Balloon Rally returns to beautiful Raton for three unforgettable days of color\, excitement\, and celebration. From July 3–5\, 2026\, hot air balloons from across the country will gather along the historic route of the Santa Fe Trail to create a spectacular display over our scenic mountain community.    Visitors and locals alike are invited to experience the magic of early morning balloon launches\, breathtaking views\, and family-friendly festivities throughout the 4th of July weekend. Watch as dozens of vibrant balloons rise into the skies\, painting a stunning picture above the foothills of Raton Pass.    ✨ Event Highlights:     Elks Lodge #865 Pancake Breakfast at 6:00 a.m.    Morning mass balloon ascensions at 6:30 a.m. (weather permitting)     Whether you’re a first-time visitor or a returning fan\, the International Santa Fe Trail Balloon Rally offers a unique opportunity to celebrate community\, history\, and the wonder of flight in one of New Mexico’s most charming historic towns.    Bring your family\, friends\, and camera for a weekend filled with color\, adventure\, and unforgettable memories in Raton.    🎈 Mark your calendars and join us July 3–5\, 2026!
URL;VALUE=URI:https://ratonmainstreet.org/event/2026-international-santa-fe-trail-balloon-rally-%f0%9f%8e%88/
SUMMARY:2026 International Santa Fe Trail Balloon Rally 🎈
DTSTART:20260703T120000Z
END:VEVENT
BEGIN:VEVENT
DTEND:20260705T040000Z
UID:69ea1b85d57e8
DTSTAMP:20260423T131549Z
CATEGORIES:Community/Social\,Kids Activities
LOCATION:Historic 1st Street 1st Street, Raton, NM, 87740, USA
DESCRIPTION:Celebrate Independence Day in the heart of downtown with Raton MainStreet at our annual Fun on First Street!    Join us on Saturday\, July 4\, 2026\, for a full day of family-friendly fun\, community spirit\, and patriotic celebration. First Street will come alive with local vendors\, delicious food\, live music\, games\, and activities for all ages. Whether you're shopping with local businesses\, enjoying great entertainment\, or spending time with friends and family\, there’s something for everyone to enjoy.    As the day winds down\, gather with friends and family to take in a spectacular fireworks display lighting up the Raton skyline—an unforgettable finale to a day of celebration.    Schedule12 p.m. - 6 p.m. Vendors\, Food\, Fun &amp\; Games w/ DJ Teddy Romero    1:30 p.m. ParadeDusk Fireworks Display    Come experience the energy\, connection\, and hometown pride that make Raton special. We look forward to celebrating with you! 🎆    To become a vendor or be in the parade\, click the button below to sign up online:     Fill out Vendor Application    Fill out Parade Float Application         You can also download Vendor Application and Parade Applications below and drop off at 145 S 1st St. Raton\, NM 87740    2026 Vendor Application July 4th.docxDownload Vendor Application    2026 Float Application.docxDownload Float Application
URL;VALUE=URI:https://ratonmainstreet.org/event/fun-on-first-street-4th-of-july-celebration-2026-%f0%9f%a7%a8%f0%9f%8e%86/
SUMMARY:Fun on First Street - 4th of July Celebration 2026 🧨🎆
DTSTART:20260704T180000Z
END:VEVENT
BEGIN:VEVENT
DTEND:20260907T050000Z
UID:69ea1b85d5937
DTSTAMP:20260423T131549Z
CATEGORIES:Community/Social\,Entertainment\,Kids Activities\,Music
LOCATION:Historic 1st Street 1st Street, Raton, NM, 87740, USA
DESCRIPTION:Get ready for a weekend of incredible music and community spirit at the Gate City Music Festival\, returning to Raton on September 5 &amp\; 6\, 2026. Known as the “Gate City” of the Southwest\, Raton will come alive with the sounds of live bands\, great food\, and a welcoming festival atmosphere.    This year’s festival will feature an exciting lineup of live music\, headlined by legendary country-rock band Exile. Fans can look forward to hearing classic hits and enjoying an unforgettable live performance.    Set against the scenic backdrop of the historic Raton Pass along the legendary Santa Fe Trail\, this two-day celebration will feature talented musicians\, local vendors\, and family-friendly activities. Whether you’re dancing to your favorite band\, enjoying delicious food\, or simply soaking in the lively festival atmosphere\, the Gate City Music Festival offers something for everyone.    🎟 Get your tickets at: gatecitymusicfestival.com    Join us September 5–6\, 2026 for a weekend of music\, fun\, and unforgettable memories in Raton! 🎵    🛒 To become a vendor\, Fill Out Online Form Here or Download the Form Below:     Fill Out Online Vendor Form     2026 Vendor Application - GCMF.docxDownload Vendor Form
URL;VALUE=URI:https://ratonmainstreet.org/event/gate-city-music-festival-2026/
SUMMARY:Gate City Music Festival 2026
DTSTART:20260905T160000Z
END:VEVENT
END:VCALENDAR
