BEGIN:VCALENDAR
VERSION:2.0
PRODID:-//CHAMBER DASHBOARD//EVENTS CALENDAR2.0//EN
CALSCALE:GREGORIAN
BEGIN:VEVENT
DTEND:20250706
UID:69ed02aacca88
DTSTAMP:20260425T180634Z
CATEGORIES:Community/Social\,Entertainment
LOCATION:La Mesa Airfield Hwy 555, Raton, NM, 87740, USA
DESCRIPTION:Hot air balloons will fly at 6:30am (weather permitting).   July 4 - 6\, 2025 If you are a pilot interested in participating\, please print and complete both a Pilot Application and Pilot Agreement. Interested in being a Sponsor\, Download the Sponsor Form!         
URL;VALUE=URI:https://ratonmainstreet.org/event/wpwp-contentuploads201603image1-jpeg/
SUMMARY:International Santa Fe Trail Balloon Rally
DTSTART:20250704
END:VEVENT
END:VCALENDAR
