BEGIN:VCALENDAR
VERSION:2.0
PRODID:-//CHAMBER DASHBOARD//EVENTS CALENDAR2.0//EN
CALSCALE:GREGORIAN
BEGIN:VEVENT
DTEND:20220729T010000Z
UID:69ea40e86a859
DTSTAMP:20260423T155520Z
LOCATION:Gate City Craft Bar 
DESCRIPTION:Please join us by being a volunteer at our Gate City Music Festival.  Sign Up/Mixer will be held at Gate City Craft Bar on Thursday\, July 28\, 2022 from 5pm to 7pm.  Appetizers will be provided.  Free t-shirts to all who volunteer to help put this event on and make it a success.
URL;VALUE=URI:https://ratonmainstreet.org/event/volunteer-sign-up-mixer/
SUMMARY:Volunteer Sign Up/Mixer
DTSTART:20220728T230000Z
END:VEVENT
END:VCALENDAR
