BEGIN:VCALENDAR
VERSION:2.0
PRODID:-//CHAMBER DASHBOARD//EVENTS CALENDAR2.0//EN
CALSCALE:GREGORIAN
BEGIN:VEVENT
DTEND:20200419T020000Z
UID:69ecfc5f8a44f
DTSTAMP:20260425T173943Z
CATEGORIES:Community/Social\,Entertainment\,Music
LOCATION:Raton Museum 108 S 2nd St., Raton, NM, 87740, USA
DESCRIPTION:"A Taste of the 20's"    Raton Museum located 108 2nd Street. From 5:00pm to 8:00pm.    Beer &amp\; wine tasting featuring: Blu Dragonfly Brewing\, Comanche Creek Brewing Co.\, Noisy Water Winery\, Nueve Ninas Winery\, and Wicked Kreations Winery    Silent auction and food pairings.    Fee $15.00 receive 8 tasting tickets and a free stemless martini glass.    Dress in 20's Attire if you so desire!    Event Fundraiser for Raton MainStreet.    &nbsp\;
URL;VALUE=URI:https://ratonmainstreet.org/event/spring-for-hops-vine/
SUMMARY:Spring for Hops &amp\; Vine - &quot\;A Taste of the 20&#039\;s&quot\;
DTSTART:20200418T230000Z
END:VEVENT
END:VCALENDAR
