BEGIN:VCALENDAR
VERSION:2.0
PRODID:-//CHAMBER DASHBOARD//EVENTS CALENDAR2.0//EN
CALSCALE:GREGORIAN
BEGIN:VEVENT
DTEND:20251031T230000Z
UID:69ecffc1bc25f
DTSTAMP:20260425T175409Z
CATEGORIES:Community/Social\,Kids Activities
LOCATION:Raton 
DESCRIPTION:Downtown Safe Trick-or-Treat is back!  Friday\, October 31\, 2025 at 3:30pm.  Everything starts at Ripley Park with a costume contest sponsored by the Raton Police Officers Association.  Phil Long Ford is also having a Trunk or Treat that you can walk through.  End the walk at the Raton Elks Lodge where you can grab a Hot Dog and some punch!
URL;VALUE=URI:https://ratonmainstreet.org/event/safe-trick-or-treat/
SUMMARY:Safe Trick-or-Treat
DTSTART:20251031T213000Z
END:VEVENT
END:VCALENDAR
