BEGIN:VCALENDAR
VERSION:2.0
PRODID:-//CHAMBER DASHBOARD//EVENTS CALENDAR2.0//EN
CALSCALE:GREGORIAN
BEGIN:VEVENT
DTEND:20241026T000000Z
UID:69ecfd23e0e6d
DTSTAMP:20260425T174259Z
CATEGORIES:Community/Social\,Entertainment\,Music
LOCATION:Raton 
DESCRIPTION:Get out your brooms\, it's time to ride!!!  Join us for Raton's annual Witch Walk on October 25\, 2024.  Sign up at the Old Pass Gallery at 145 S. 1st Street.  $40 registration fee gets you drinks and appetizers at 4 local Raton bars.  We will end the evening with a private party dance at the VFW.  Get an extra ticket for your significant other (to meet you to dance) for only $5.   You can also buy raffle tickets to win wonderful prizes.   Buy into our 50/50 for only $20 for a chance to win $500.   All proceeds go to Alternatives To Violence.   Registration deadline is October 22\, 2024 at 4:00pm. Download Registration Form        
URL;VALUE=URI:https://ratonmainstreet.org/event/raton-witch-walk/
SUMMARY:Raton Witch Walk
DTSTART:20241026T000000Z
END:VEVENT
END:VCALENDAR
