BEGIN:VCALENDAR
VERSION:2.0
PRODID:-//CHAMBER DASHBOARD//EVENTS CALENDAR2.0//EN
CALSCALE:GREGORIAN
BEGIN:VEVENT
DTEND:20250901T050000Z
UID:69ea3e72ec442
DTSTAMP:20260423T154450Z
CATEGORIES:Community/Social\,Entertainment\,Music
LOCATION:Historic 1st Street 1st Street, Raton, NM, 87740, USA
DESCRIPTION:Ready for the Annual Gate City Music Festival? Nestled against the mesas of the southern Rockies along the Santa Fe Trail\, Raton\, New Mexico at 6680 ft. is the perfect spot to enjoy fabulous music and a taste of the Southwest...  So take a break and come join us!  Saturday 8/30: 10:00am to 10:00pm Vendors on Historic 1st Street.  DJ form 10:00am to 12:00am. Live music starts at 12:00pm.  12:15pm - National Anthem by Sue Martin  12:30pm - 2:30pm Dzaki Sukarno  3:00pm - 5:00pm Vegan Shark  5:30pm - 7:30pm  Sister Mary Mayhem  Street Dance 8:00 - 12:00am Nathaniel Krantz Band  Sunday 8/31: 12:00pm - 5:00pm  Tequila Rain  Sunday 8/31: 7:00pm - 11:00pm - Concert in the Historic Shuler Theater Featuring: Gene Watson\, and Will &amp\; Crystal Yates  Prospective vendors: Please print and complete a Vendor Application by August 23\, 2025.  Vendor Form
URL;VALUE=URI:https://ratonmainstreet.org/event/gate-city-music-festival/
SUMMARY:Gate City Music Festival
DTSTART:20250830T160000Z
END:VEVENT
END:VCALENDAR
