BEGIN:VCALENDAR
VERSION:2.0
PRODID:-//CHAMBER DASHBOARD//EVENTS CALENDAR2.0//EN
CALSCALE:GREGORIAN
BEGIN:VEVENT
DTEND:20241130T020000Z
UID:69ea294320f5d
DTSTAMP:20260423T141427Z
CATEGORIES:Community/Social\,Entertainment\,Kids Activities
LOCATION:Historic 1st Street 1st Street, Raton, NM, 87740, USA
DESCRIPTION:Static parade of floats decorated for the Christmas Holiday on Historic 1st Street between Rio Grande Ave. and Clark Ave. directly following the City Christmas Tree lighting at Ripley Park. Prizes for 1st\, 2nd &amp\; 3rd best float. Street lights will be off from 5:30pm to 7:00pm. If you would like to participate complete the Parade Entry Form.  Festival of Lights Entry Form 
URL;VALUE=URI:https://ratonmainstreet.org/event/festival-of-lights/
SUMMARY:Festival of Lights
DTSTART:20241130T003000Z
END:VEVENT
END:VCALENDAR
