BEGIN:VCALENDAR
VERSION:2.0
PRODID:-//CHAMBER DASHBOARD//EVENTS CALENDAR2.0//EN
CALSCALE:GREGORIAN
BEGIN:VEVENT
DTEND:20250704
UID:69ed164f6a917
DTSTAMP:20260425T193023Z
CATEGORIES:Community/Social\,Entertainment\,Music
LOCATION:Historic 1st Street 1st Street, Raton, NM, 87740, USA
DESCRIPTION:Vendors\, Live Entertainment with contests and games for kids. Starts at 12:00pm and goes until 6:00pm If you would like to be a vendor please complete the Vendor Application. 2025 Vendor Application  July 4th Parade starts at 1:30pm\; No Theme\, Just think AMERICA                             2025 Parade Entry form      
URL;VALUE=URI:https://ratonmainstreet.org/event/4th-of-july-celebration-fun-in-the-park/
SUMMARY:4th of July Celebration - Fun on Historic 1st Street
DTSTART:20250704
END:VEVENT
END:VCALENDAR
