BEGIN:VCALENDAR
VERSION:2.0
PRODID:-//CHAMBER DASHBOARD//EVENTS CALENDAR2.0//EN
CALSCALE:GREGORIAN
BEGIN:VEVENT
DTEND:20191210T174500Z
UID:69ecfc5f8c5d6
DTSTAMP:20260425T173943Z
CATEGORIES:Community/Social
LOCATION:Historic 1st Street 1st Street, Raton, NM, 87740, USA
DESCRIPTION:Great Blocks Press Release 10_19
URL;VALUE=URI:https://ratonmainstreet.org/event/4731-2/
SUMMARY:Great Blocks Press Release
DTSTART:20191210T174500Z
END:VEVENT
END:VCALENDAR
