BEGIN:VCALENDAR
VERSION:2.0
PRODID:-//CHAMBER DASHBOARD//EVENTS CALENDAR2.0//EN
CALSCALE:GREGORIAN
BEGIN:VEVENT
DTEND:20260328T220000Z
UID:69ed02aacc0aa
DTSTAMP:20260425T180634Z
CATEGORIES:Community/Social
LOCATION:The Historic Shuler Theater 131 N 2nd St., Raton, NM, 8740, USA
DESCRIPTION:We’re excited to announce the launch of NM CreativeCon\, a new statewide series of events designed to support and grow New Mexico’s creative economy. Hosted by the New Mexico Economic Development Department’s Creative Industries Division\, NM CreativeCon emphasizes the business side of creativity through education\, networking\, and hands-on learning opportunities. Beginning in March 2026\, NM CreativeCon will host five regional CreativeCons across the state\, leading up to a full-day statewide convening in June. These events are designed to strengthen local creative networks\, highlight regional assets\, and provide practical tools to support creative businesses at every stage.    2026 NM CreativeCon Schedule    • March 7\, 2026 – Carlsbad (Southeast) | Cavern Theater    • March 28\, 2026 – Raton (Northeast) | Shuler Theater    • April 11\, 2026 – Gallup (Northwest) | El Morro Theater    • April 25\, 2026 – Silver City (Southwest) | WNMU Fine Arts Theater    • May 30\, 2026 – Pueblo of Pojoaque (Northcentral) | Buffalo Thunder Casino    • June 6\, 2026 – Albuquerque (Central) | National Hispanic Cultural Center    Each regional CreativeCon will spotlight local creative industries\, connect participants to state and regional resources\, and foster meaningful relationships within each community’s creative ecosystem.    Raton Schedule9:00 – 9:15 AM: Coffee &amp\; Networking9:30 – 10:15 AM: Local Government Creative Supports Panel10:15 – 10:30 AM: Break10:30 – 11:30 AM: Local Entrepreneurs Panel11:30 – 11:45 AM: Break12:00 – 1:20 PM: Lunch1:30 – 2:15 PM: Regional Creative Ecosystem Panel2:15 – 2:30 PM: Break2:30 – 3:15 PM: State Creative Ecosystem Panel3:30 – 4:00 PM: Closing &amp\; Networking    Registration is $15 and is now open. Learn more and sign up at https://edd.newmexico.gov/creativecon/ or follow @NMCreativeDiv for updates.        SPECIAL OFFER    Every registrant for the NM CreativeCon in Raton will receive one (1) free ticket to "The French Family Band" performance at the Shuler Theater hosted by the Raton Arts &amp\; Humanities Council on Friday\, March 27\, 2026 at 7 p.m. (the day before the conference). Doors open at 6:30 p.m.    Nashville-based but hailing from Australia/New Zealand\, this family band features Stuie &amp\; Camille French on guitars/vocals\, and son Sonny on guitars/vocals. Taking inspiration from country and western swing icons of decades past\, one can hear echoes of Chet Atkins\, Anne Murray and Merle Haggard in the covers and originals they perform.&nbsp\;When Covid hit\, the French Family pivoted to Facebook Live concerts from home and developed a following of nearly 180\,000.    Since then\, the band has appeared on stage at the Grand Ol’ Opry several times and won 4 Australian Golden Guitar Awards.&nbsp\;The uncommon gifts of Camille\, Stuie and Sonny rival the stars of country’s Golden Age.    If you have any questions\, please reach out Patricia at&nbsp\;(575) 445-2052&nbsp\;or&nbsp\;pduran@ratonmainstreet.org
URL;VALUE=URI:https://ratonmainstreet.org/event/2026-nm-creativecon-in-raton/
SUMMARY:2026 NM CreativeCon in Raton 🎨
DTSTART:20260328T150000Z
END:VEVENT
END:VCALENDAR
